BEGIN:VCALENDAR
VERSION:2.0
PRODID:-//Hart Pioneer Centre - ECPv6.15.18//NONSGML v1.0//EN
CALSCALE:GREGORIAN
METHOD:PUBLISH
X-WR-CALNAME:Hart Pioneer Centre
X-ORIGINAL-URL:https://hartpioneercentre.ca
X-WR-CALDESC:Events for Hart Pioneer Centre
REFRESH-INTERVAL;VALUE=DURATION:PT1H
X-Robots-Tag:noindex
X-PUBLISHED-TTL:PT1H
BEGIN:VTIMEZONE
TZID:America/Vancouver
BEGIN:DAYLIGHT
TZOFFSETFROM:-0800
TZOFFSETTO:-0700
TZNAME:PDT
DTSTART:20250309T100000
END:DAYLIGHT
BEGIN:STANDARD
TZOFFSETFROM:-0700
TZOFFSETTO:-0800
TZNAME:PST
DTSTART:20251102T090000
END:STANDARD
BEGIN:DAYLIGHT
TZOFFSETFROM:-0800
TZOFFSETTO:-0700
TZNAME:PDT
DTSTART:20260308T100000
END:DAYLIGHT
BEGIN:STANDARD
TZOFFSETFROM:-0700
TZOFFSETTO:-0800
TZNAME:PST
DTSTART:20261101T090000
END:STANDARD
BEGIN:DAYLIGHT
TZOFFSETFROM:-0800
TZOFFSETTO:-0700
TZNAME:PDT
DTSTART:20270314T100000
END:DAYLIGHT
BEGIN:STANDARD
TZOFFSETFROM:-0700
TZOFFSETTO:-0800
TZNAME:PST
DTSTART:20271107T090000
END:STANDARD
END:VTIMEZONE
BEGIN:VEVENT
DTSTART;TZID=America/Vancouver:20260423T181500
DTEND;TZID=America/Vancouver:20260423T200000
DTSTAMP:20260422T201758
CREATED:20241230T195841Z
LAST-MODIFIED:20251229T013652Z
UID:10006164-1776968100-1776974400@hartpioneercentre.ca
SUMMARY:Canasta
DESCRIPTION:Canasta is a Rummy type game of melding that is played with two 52 playing card decks and two teams of 2. The objective of Canasta is for your team to reach the winning number of points first.
URL:https://hartpioneercentre.ca/event/canasta-2-2/2026-04-23/
LOCATION:Hart Pioneer Centre\, 6986 Hart Highway\, Prince George\, BC\, V2k 3A8\, Canada
CATEGORIES:cards
ATTACH;FMTTYPE=image/jpeg:https://hartpioneercentre.ca/wp-content/uploads/canasta.jpg
END:VEVENT
BEGIN:VEVENT
DTSTART;TZID=America/Vancouver:20260430T181500
DTEND;TZID=America/Vancouver:20260430T200000
DTSTAMP:20260422T201758
CREATED:20241230T195841Z
LAST-MODIFIED:20251229T013652Z
UID:10006165-1777572900-1777579200@hartpioneercentre.ca
SUMMARY:Canasta
DESCRIPTION:Canasta is a Rummy type game of melding that is played with two 52 playing card decks and two teams of 2. The objective of Canasta is for your team to reach the winning number of points first.
URL:https://hartpioneercentre.ca/event/canasta-2-2/2026-04-30/
LOCATION:Hart Pioneer Centre\, 6986 Hart Highway\, Prince George\, BC\, V2k 3A8\, Canada
CATEGORIES:cards
ATTACH;FMTTYPE=image/jpeg:https://hartpioneercentre.ca/wp-content/uploads/canasta.jpg
END:VEVENT
BEGIN:VEVENT
DTSTART;TZID=America/Vancouver:20260507T181500
DTEND;TZID=America/Vancouver:20260507T200000
DTSTAMP:20260422T201758
CREATED:20241230T195841Z
LAST-MODIFIED:20251229T013652Z
UID:10006166-1778177700-1778184000@hartpioneercentre.ca
SUMMARY:Canasta
DESCRIPTION:Canasta is a Rummy type game of melding that is played with two 52 playing card decks and two teams of 2. The objective of Canasta is for your team to reach the winning number of points first.
URL:https://hartpioneercentre.ca/event/canasta-2-2/2026-05-07/
LOCATION:Hart Pioneer Centre\, 6986 Hart Highway\, Prince George\, BC\, V2k 3A8\, Canada
CATEGORIES:cards
ATTACH;FMTTYPE=image/jpeg:https://hartpioneercentre.ca/wp-content/uploads/canasta.jpg
END:VEVENT
BEGIN:VEVENT
DTSTART;TZID=America/Vancouver:20260514T181500
DTEND;TZID=America/Vancouver:20260514T200000
DTSTAMP:20260422T201758
CREATED:20241230T195841Z
LAST-MODIFIED:20251229T013652Z
UID:10006167-1778782500-1778788800@hartpioneercentre.ca
SUMMARY:Canasta
DESCRIPTION:Canasta is a Rummy type game of melding that is played with two 52 playing card decks and two teams of 2. The objective of Canasta is for your team to reach the winning number of points first.
URL:https://hartpioneercentre.ca/event/canasta-2-2/2026-05-14/
LOCATION:Hart Pioneer Centre\, 6986 Hart Highway\, Prince George\, BC\, V2k 3A8\, Canada
CATEGORIES:cards
ATTACH;FMTTYPE=image/jpeg:https://hartpioneercentre.ca/wp-content/uploads/canasta.jpg
END:VEVENT
BEGIN:VEVENT
DTSTART;TZID=America/Vancouver:20260521T181500
DTEND;TZID=America/Vancouver:20260521T200000
DTSTAMP:20260422T201758
CREATED:20241230T195841Z
LAST-MODIFIED:20251229T013652Z
UID:10006168-1779387300-1779393600@hartpioneercentre.ca
SUMMARY:Canasta
DESCRIPTION:Canasta is a Rummy type game of melding that is played with two 52 playing card decks and two teams of 2. The objective of Canasta is for your team to reach the winning number of points first.
URL:https://hartpioneercentre.ca/event/canasta-2-2/2026-05-21/
LOCATION:Hart Pioneer Centre\, 6986 Hart Highway\, Prince George\, BC\, V2k 3A8\, Canada
CATEGORIES:cards
ATTACH;FMTTYPE=image/jpeg:https://hartpioneercentre.ca/wp-content/uploads/canasta.jpg
END:VEVENT
BEGIN:VEVENT
DTSTART;TZID=America/Vancouver:20260528T181500
DTEND;TZID=America/Vancouver:20260528T200000
DTSTAMP:20260422T201758
CREATED:20241230T195841Z
LAST-MODIFIED:20251229T013652Z
UID:10006169-1779992100-1779998400@hartpioneercentre.ca
SUMMARY:Canasta
DESCRIPTION:Canasta is a Rummy type game of melding that is played with two 52 playing card decks and two teams of 2. The objective of Canasta is for your team to reach the winning number of points first.
URL:https://hartpioneercentre.ca/event/canasta-2-2/2026-05-28/
LOCATION:Hart Pioneer Centre\, 6986 Hart Highway\, Prince George\, BC\, V2k 3A8\, Canada
CATEGORIES:cards
ATTACH;FMTTYPE=image/jpeg:https://hartpioneercentre.ca/wp-content/uploads/canasta.jpg
END:VEVENT
BEGIN:VEVENT
DTSTART;TZID=America/Vancouver:20260604T181500
DTEND;TZID=America/Vancouver:20260604T200000
DTSTAMP:20260422T201758
CREATED:20241230T195841Z
LAST-MODIFIED:20251229T013652Z
UID:10006170-1780596900-1780603200@hartpioneercentre.ca
SUMMARY:Canasta
DESCRIPTION:Canasta is a Rummy type game of melding that is played with two 52 playing card decks and two teams of 2. The objective of Canasta is for your team to reach the winning number of points first.
URL:https://hartpioneercentre.ca/event/canasta-2-2/2026-06-04/
LOCATION:Hart Pioneer Centre\, 6986 Hart Highway\, Prince George\, BC\, V2k 3A8\, Canada
CATEGORIES:cards
ATTACH;FMTTYPE=image/jpeg:https://hartpioneercentre.ca/wp-content/uploads/canasta.jpg
END:VEVENT
BEGIN:VEVENT
DTSTART;TZID=America/Vancouver:20260611T181500
DTEND;TZID=America/Vancouver:20260611T200000
DTSTAMP:20260422T201758
CREATED:20241230T195841Z
LAST-MODIFIED:20251229T013652Z
UID:10006171-1781201700-1781208000@hartpioneercentre.ca
SUMMARY:Canasta
DESCRIPTION:Canasta is a Rummy type game of melding that is played with two 52 playing card decks and two teams of 2. The objective of Canasta is for your team to reach the winning number of points first.
URL:https://hartpioneercentre.ca/event/canasta-2-2/2026-06-11/
LOCATION:Hart Pioneer Centre\, 6986 Hart Highway\, Prince George\, BC\, V2k 3A8\, Canada
CATEGORIES:cards
ATTACH;FMTTYPE=image/jpeg:https://hartpioneercentre.ca/wp-content/uploads/canasta.jpg
END:VEVENT
BEGIN:VEVENT
DTSTART;TZID=America/Vancouver:20260618T181500
DTEND;TZID=America/Vancouver:20260618T200000
DTSTAMP:20260422T201758
CREATED:20241230T195841Z
LAST-MODIFIED:20251229T013652Z
UID:10006172-1781806500-1781812800@hartpioneercentre.ca
SUMMARY:Canasta
DESCRIPTION:Canasta is a Rummy type game of melding that is played with two 52 playing card decks and two teams of 2. The objective of Canasta is for your team to reach the winning number of points first.
URL:https://hartpioneercentre.ca/event/canasta-2-2/2026-06-18/
LOCATION:Hart Pioneer Centre\, 6986 Hart Highway\, Prince George\, BC\, V2k 3A8\, Canada
CATEGORIES:cards
ATTACH;FMTTYPE=image/jpeg:https://hartpioneercentre.ca/wp-content/uploads/canasta.jpg
END:VEVENT
BEGIN:VEVENT
DTSTART;TZID=America/Vancouver:20260625T181500
DTEND;TZID=America/Vancouver:20260625T200000
DTSTAMP:20260422T201758
CREATED:20241230T195841Z
LAST-MODIFIED:20251229T013652Z
UID:10006173-1782411300-1782417600@hartpioneercentre.ca
SUMMARY:Canasta
DESCRIPTION:Canasta is a Rummy type game of melding that is played with two 52 playing card decks and two teams of 2. The objective of Canasta is for your team to reach the winning number of points first.
URL:https://hartpioneercentre.ca/event/canasta-2-2/2026-06-25/
LOCATION:Hart Pioneer Centre\, 6986 Hart Highway\, Prince George\, BC\, V2k 3A8\, Canada
CATEGORIES:cards
ATTACH;FMTTYPE=image/jpeg:https://hartpioneercentre.ca/wp-content/uploads/canasta.jpg
END:VEVENT
BEGIN:VEVENT
DTSTART;TZID=America/Vancouver:20260702T181500
DTEND;TZID=America/Vancouver:20260702T200000
DTSTAMP:20260422T201758
CREATED:20241230T195841Z
LAST-MODIFIED:20251229T013652Z
UID:10006174-1783016100-1783022400@hartpioneercentre.ca
SUMMARY:Canasta
DESCRIPTION:Canasta is a Rummy type game of melding that is played with two 52 playing card decks and two teams of 2. The objective of Canasta is for your team to reach the winning number of points first.
URL:https://hartpioneercentre.ca/event/canasta-2-2/2026-07-02/
LOCATION:Hart Pioneer Centre\, 6986 Hart Highway\, Prince George\, BC\, V2k 3A8\, Canada
CATEGORIES:cards
ATTACH;FMTTYPE=image/jpeg:https://hartpioneercentre.ca/wp-content/uploads/canasta.jpg
END:VEVENT
BEGIN:VEVENT
DTSTART;TZID=America/Vancouver:20260709T181500
DTEND;TZID=America/Vancouver:20260709T200000
DTSTAMP:20260422T201758
CREATED:20241230T195841Z
LAST-MODIFIED:20251229T013652Z
UID:10006175-1783620900-1783627200@hartpioneercentre.ca
SUMMARY:Canasta
DESCRIPTION:Canasta is a Rummy type game of melding that is played with two 52 playing card decks and two teams of 2. The objective of Canasta is for your team to reach the winning number of points first.
URL:https://hartpioneercentre.ca/event/canasta-2-2/2026-07-09/
LOCATION:Hart Pioneer Centre\, 6986 Hart Highway\, Prince George\, BC\, V2k 3A8\, Canada
CATEGORIES:cards
ATTACH;FMTTYPE=image/jpeg:https://hartpioneercentre.ca/wp-content/uploads/canasta.jpg
END:VEVENT
BEGIN:VEVENT
DTSTART;TZID=America/Vancouver:20260716T181500
DTEND;TZID=America/Vancouver:20260716T200000
DTSTAMP:20260422T201758
CREATED:20241230T195841Z
LAST-MODIFIED:20251229T013652Z
UID:10006176-1784225700-1784232000@hartpioneercentre.ca
SUMMARY:Canasta
DESCRIPTION:Canasta is a Rummy type game of melding that is played with two 52 playing card decks and two teams of 2. The objective of Canasta is for your team to reach the winning number of points first.
URL:https://hartpioneercentre.ca/event/canasta-2-2/2026-07-16/
LOCATION:Hart Pioneer Centre\, 6986 Hart Highway\, Prince George\, BC\, V2k 3A8\, Canada
CATEGORIES:cards
ATTACH;FMTTYPE=image/jpeg:https://hartpioneercentre.ca/wp-content/uploads/canasta.jpg
END:VEVENT
BEGIN:VEVENT
DTSTART;TZID=America/Vancouver:20260723T181500
DTEND;TZID=America/Vancouver:20260723T200000
DTSTAMP:20260422T201758
CREATED:20241230T195841Z
LAST-MODIFIED:20251229T013652Z
UID:10006177-1784830500-1784836800@hartpioneercentre.ca
SUMMARY:Canasta
DESCRIPTION:Canasta is a Rummy type game of melding that is played with two 52 playing card decks and two teams of 2. The objective of Canasta is for your team to reach the winning number of points first.
URL:https://hartpioneercentre.ca/event/canasta-2-2/2026-07-23/
LOCATION:Hart Pioneer Centre\, 6986 Hart Highway\, Prince George\, BC\, V2k 3A8\, Canada
CATEGORIES:cards
ATTACH;FMTTYPE=image/jpeg:https://hartpioneercentre.ca/wp-content/uploads/canasta.jpg
END:VEVENT
BEGIN:VEVENT
DTSTART;TZID=America/Vancouver:20260730T181500
DTEND;TZID=America/Vancouver:20260730T200000
DTSTAMP:20260422T201758
CREATED:20241230T195841Z
LAST-MODIFIED:20251229T013652Z
UID:10006178-1785435300-1785441600@hartpioneercentre.ca
SUMMARY:Canasta
DESCRIPTION:Canasta is a Rummy type game of melding that is played with two 52 playing card decks and two teams of 2. The objective of Canasta is for your team to reach the winning number of points first.
URL:https://hartpioneercentre.ca/event/canasta-2-2/2026-07-30/
LOCATION:Hart Pioneer Centre\, 6986 Hart Highway\, Prince George\, BC\, V2k 3A8\, Canada
CATEGORIES:cards
ATTACH;FMTTYPE=image/jpeg:https://hartpioneercentre.ca/wp-content/uploads/canasta.jpg
END:VEVENT
BEGIN:VEVENT
DTSTART;TZID=America/Vancouver:20260806T181500
DTEND;TZID=America/Vancouver:20260806T200000
DTSTAMP:20260422T201758
CREATED:20241230T195841Z
LAST-MODIFIED:20251229T013652Z
UID:10006179-1786040100-1786046400@hartpioneercentre.ca
SUMMARY:Canasta
DESCRIPTION:Canasta is a Rummy type game of melding that is played with two 52 playing card decks and two teams of 2. The objective of Canasta is for your team to reach the winning number of points first.
URL:https://hartpioneercentre.ca/event/canasta-2-2/2026-08-06/
LOCATION:Hart Pioneer Centre\, 6986 Hart Highway\, Prince George\, BC\, V2k 3A8\, Canada
CATEGORIES:cards
ATTACH;FMTTYPE=image/jpeg:https://hartpioneercentre.ca/wp-content/uploads/canasta.jpg
END:VEVENT
BEGIN:VEVENT
DTSTART;TZID=America/Vancouver:20260813T181500
DTEND;TZID=America/Vancouver:20260813T200000
DTSTAMP:20260422T201758
CREATED:20241230T195841Z
LAST-MODIFIED:20251229T013652Z
UID:10006180-1786644900-1786651200@hartpioneercentre.ca
SUMMARY:Canasta
DESCRIPTION:Canasta is a Rummy type game of melding that is played with two 52 playing card decks and two teams of 2. The objective of Canasta is for your team to reach the winning number of points first.
URL:https://hartpioneercentre.ca/event/canasta-2-2/2026-08-13/
LOCATION:Hart Pioneer Centre\, 6986 Hart Highway\, Prince George\, BC\, V2k 3A8\, Canada
CATEGORIES:cards
ATTACH;FMTTYPE=image/jpeg:https://hartpioneercentre.ca/wp-content/uploads/canasta.jpg
END:VEVENT
BEGIN:VEVENT
DTSTART;TZID=America/Vancouver:20260820T181500
DTEND;TZID=America/Vancouver:20260820T200000
DTSTAMP:20260422T201758
CREATED:20241230T195841Z
LAST-MODIFIED:20251229T013652Z
UID:10006181-1787249700-1787256000@hartpioneercentre.ca
SUMMARY:Canasta
DESCRIPTION:Canasta is a Rummy type game of melding that is played with two 52 playing card decks and two teams of 2. The objective of Canasta is for your team to reach the winning number of points first.
URL:https://hartpioneercentre.ca/event/canasta-2-2/2026-08-20/
LOCATION:Hart Pioneer Centre\, 6986 Hart Highway\, Prince George\, BC\, V2k 3A8\, Canada
CATEGORIES:cards
ATTACH;FMTTYPE=image/jpeg:https://hartpioneercentre.ca/wp-content/uploads/canasta.jpg
END:VEVENT
BEGIN:VEVENT
DTSTART;TZID=America/Vancouver:20260827T181500
DTEND;TZID=America/Vancouver:20260827T200000
DTSTAMP:20260422T201758
CREATED:20241230T195841Z
LAST-MODIFIED:20251229T013652Z
UID:10006182-1787854500-1787860800@hartpioneercentre.ca
SUMMARY:Canasta
DESCRIPTION:Canasta is a Rummy type game of melding that is played with two 52 playing card decks and two teams of 2. The objective of Canasta is for your team to reach the winning number of points first.
URL:https://hartpioneercentre.ca/event/canasta-2-2/2026-08-27/
LOCATION:Hart Pioneer Centre\, 6986 Hart Highway\, Prince George\, BC\, V2k 3A8\, Canada
CATEGORIES:cards
ATTACH;FMTTYPE=image/jpeg:https://hartpioneercentre.ca/wp-content/uploads/canasta.jpg
END:VEVENT
BEGIN:VEVENT
DTSTART;TZID=America/Vancouver:20260903T181500
DTEND;TZID=America/Vancouver:20260903T200000
DTSTAMP:20260422T201758
CREATED:20241230T195841Z
LAST-MODIFIED:20251229T013652Z
UID:10006183-1788459300-1788465600@hartpioneercentre.ca
SUMMARY:Canasta
DESCRIPTION:Canasta is a Rummy type game of melding that is played with two 52 playing card decks and two teams of 2. The objective of Canasta is for your team to reach the winning number of points first.
URL:https://hartpioneercentre.ca/event/canasta-2-2/2026-09-03/
LOCATION:Hart Pioneer Centre\, 6986 Hart Highway\, Prince George\, BC\, V2k 3A8\, Canada
CATEGORIES:cards
ATTACH;FMTTYPE=image/jpeg:https://hartpioneercentre.ca/wp-content/uploads/canasta.jpg
END:VEVENT
BEGIN:VEVENT
DTSTART;TZID=America/Vancouver:20260910T181500
DTEND;TZID=America/Vancouver:20260910T200000
DTSTAMP:20260422T201758
CREATED:20241230T195841Z
LAST-MODIFIED:20251229T013652Z
UID:10006184-1789064100-1789070400@hartpioneercentre.ca
SUMMARY:Canasta
DESCRIPTION:Canasta is a Rummy type game of melding that is played with two 52 playing card decks and two teams of 2. The objective of Canasta is for your team to reach the winning number of points first.
URL:https://hartpioneercentre.ca/event/canasta-2-2/2026-09-10/
LOCATION:Hart Pioneer Centre\, 6986 Hart Highway\, Prince George\, BC\, V2k 3A8\, Canada
CATEGORIES:cards
ATTACH;FMTTYPE=image/jpeg:https://hartpioneercentre.ca/wp-content/uploads/canasta.jpg
END:VEVENT
BEGIN:VEVENT
DTSTART;TZID=America/Vancouver:20260917T181500
DTEND;TZID=America/Vancouver:20260917T200000
DTSTAMP:20260422T201758
CREATED:20241230T195841Z
LAST-MODIFIED:20251229T013652Z
UID:10006185-1789668900-1789675200@hartpioneercentre.ca
SUMMARY:Canasta
DESCRIPTION:Canasta is a Rummy type game of melding that is played with two 52 playing card decks and two teams of 2. The objective of Canasta is for your team to reach the winning number of points first.
URL:https://hartpioneercentre.ca/event/canasta-2-2/2026-09-17/
LOCATION:Hart Pioneer Centre\, 6986 Hart Highway\, Prince George\, BC\, V2k 3A8\, Canada
CATEGORIES:cards
ATTACH;FMTTYPE=image/jpeg:https://hartpioneercentre.ca/wp-content/uploads/canasta.jpg
END:VEVENT
BEGIN:VEVENT
DTSTART;TZID=America/Vancouver:20260924T181500
DTEND;TZID=America/Vancouver:20260924T200000
DTSTAMP:20260422T201758
CREATED:20241230T195841Z
LAST-MODIFIED:20251229T013652Z
UID:10006186-1790273700-1790280000@hartpioneercentre.ca
SUMMARY:Canasta
DESCRIPTION:Canasta is a Rummy type game of melding that is played with two 52 playing card decks and two teams of 2. The objective of Canasta is for your team to reach the winning number of points first.
URL:https://hartpioneercentre.ca/event/canasta-2-2/2026-09-24/
LOCATION:Hart Pioneer Centre\, 6986 Hart Highway\, Prince George\, BC\, V2k 3A8\, Canada
CATEGORIES:cards
ATTACH;FMTTYPE=image/jpeg:https://hartpioneercentre.ca/wp-content/uploads/canasta.jpg
END:VEVENT
BEGIN:VEVENT
DTSTART;TZID=America/Vancouver:20261001T181500
DTEND;TZID=America/Vancouver:20261001T200000
DTSTAMP:20260422T201758
CREATED:20241230T195841Z
LAST-MODIFIED:20251229T013652Z
UID:10006187-1790878500-1790884800@hartpioneercentre.ca
SUMMARY:Canasta
DESCRIPTION:Canasta is a Rummy type game of melding that is played with two 52 playing card decks and two teams of 2. The objective of Canasta is for your team to reach the winning number of points first.
URL:https://hartpioneercentre.ca/event/canasta-2-2/2026-10-01/
LOCATION:Hart Pioneer Centre\, 6986 Hart Highway\, Prince George\, BC\, V2k 3A8\, Canada
CATEGORIES:cards
ATTACH;FMTTYPE=image/jpeg:https://hartpioneercentre.ca/wp-content/uploads/canasta.jpg
END:VEVENT
BEGIN:VEVENT
DTSTART;TZID=America/Vancouver:20261008T181500
DTEND;TZID=America/Vancouver:20261008T200000
DTSTAMP:20260422T201758
CREATED:20241230T195841Z
LAST-MODIFIED:20251229T013652Z
UID:10006188-1791483300-1791489600@hartpioneercentre.ca
SUMMARY:Canasta
DESCRIPTION:Canasta is a Rummy type game of melding that is played with two 52 playing card decks and two teams of 2. The objective of Canasta is for your team to reach the winning number of points first.
URL:https://hartpioneercentre.ca/event/canasta-2-2/2026-10-08/
LOCATION:Hart Pioneer Centre\, 6986 Hart Highway\, Prince George\, BC\, V2k 3A8\, Canada
CATEGORIES:cards
ATTACH;FMTTYPE=image/jpeg:https://hartpioneercentre.ca/wp-content/uploads/canasta.jpg
END:VEVENT
BEGIN:VEVENT
DTSTART;TZID=America/Vancouver:20261015T181500
DTEND;TZID=America/Vancouver:20261015T200000
DTSTAMP:20260422T201758
CREATED:20241230T195841Z
LAST-MODIFIED:20251229T013652Z
UID:10006189-1792088100-1792094400@hartpioneercentre.ca
SUMMARY:Canasta
DESCRIPTION:Canasta is a Rummy type game of melding that is played with two 52 playing card decks and two teams of 2. The objective of Canasta is for your team to reach the winning number of points first.
URL:https://hartpioneercentre.ca/event/canasta-2-2/2026-10-15/
LOCATION:Hart Pioneer Centre\, 6986 Hart Highway\, Prince George\, BC\, V2k 3A8\, Canada
CATEGORIES:cards
ATTACH;FMTTYPE=image/jpeg:https://hartpioneercentre.ca/wp-content/uploads/canasta.jpg
END:VEVENT
BEGIN:VEVENT
DTSTART;TZID=America/Vancouver:20261022T181500
DTEND;TZID=America/Vancouver:20261022T200000
DTSTAMP:20260422T201758
CREATED:20241230T195841Z
LAST-MODIFIED:20251229T013652Z
UID:10006190-1792692900-1792699200@hartpioneercentre.ca
SUMMARY:Canasta
DESCRIPTION:Canasta is a Rummy type game of melding that is played with two 52 playing card decks and two teams of 2. The objective of Canasta is for your team to reach the winning number of points first.
URL:https://hartpioneercentre.ca/event/canasta-2-2/2026-10-22/
LOCATION:Hart Pioneer Centre\, 6986 Hart Highway\, Prince George\, BC\, V2k 3A8\, Canada
CATEGORIES:cards
ATTACH;FMTTYPE=image/jpeg:https://hartpioneercentre.ca/wp-content/uploads/canasta.jpg
END:VEVENT
BEGIN:VEVENT
DTSTART;TZID=America/Vancouver:20261029T181500
DTEND;TZID=America/Vancouver:20261029T200000
DTSTAMP:20260422T201758
CREATED:20241230T195841Z
LAST-MODIFIED:20251229T013652Z
UID:10006191-1793297700-1793304000@hartpioneercentre.ca
SUMMARY:Canasta
DESCRIPTION:Canasta is a Rummy type game of melding that is played with two 52 playing card decks and two teams of 2. The objective of Canasta is for your team to reach the winning number of points first.
URL:https://hartpioneercentre.ca/event/canasta-2-2/2026-10-29/
LOCATION:Hart Pioneer Centre\, 6986 Hart Highway\, Prince George\, BC\, V2k 3A8\, Canada
CATEGORIES:cards
ATTACH;FMTTYPE=image/jpeg:https://hartpioneercentre.ca/wp-content/uploads/canasta.jpg
END:VEVENT
BEGIN:VEVENT
DTSTART;TZID=America/Vancouver:20261105T181500
DTEND;TZID=America/Vancouver:20261105T200000
DTSTAMP:20260422T201758
CREATED:20241230T195841Z
LAST-MODIFIED:20251229T013652Z
UID:10006192-1793902500-1793908800@hartpioneercentre.ca
SUMMARY:Canasta
DESCRIPTION:Canasta is a Rummy type game of melding that is played with two 52 playing card decks and two teams of 2. The objective of Canasta is for your team to reach the winning number of points first.
URL:https://hartpioneercentre.ca/event/canasta-2-2/2026-11-05/
LOCATION:Hart Pioneer Centre\, 6986 Hart Highway\, Prince George\, BC\, V2k 3A8\, Canada
CATEGORIES:cards
ATTACH;FMTTYPE=image/jpeg:https://hartpioneercentre.ca/wp-content/uploads/canasta.jpg
END:VEVENT
BEGIN:VEVENT
DTSTART;TZID=America/Vancouver:20261112T181500
DTEND;TZID=America/Vancouver:20261112T200000
DTSTAMP:20260422T201758
CREATED:20241230T195841Z
LAST-MODIFIED:20251229T013652Z
UID:10006193-1794507300-1794513600@hartpioneercentre.ca
SUMMARY:Canasta
DESCRIPTION:Canasta is a Rummy type game of melding that is played with two 52 playing card decks and two teams of 2. The objective of Canasta is for your team to reach the winning number of points first.
URL:https://hartpioneercentre.ca/event/canasta-2-2/2026-11-12/
LOCATION:Hart Pioneer Centre\, 6986 Hart Highway\, Prince George\, BC\, V2k 3A8\, Canada
CATEGORIES:cards
ATTACH;FMTTYPE=image/jpeg:https://hartpioneercentre.ca/wp-content/uploads/canasta.jpg
END:VEVENT
END:VCALENDAR