BEGIN:VCALENDAR
VERSION:2.0
PRODID:-//Hart Pioneer Centre - ECPv6.15.18//NONSGML v1.0//EN
CALSCALE:GREGORIAN
METHOD:PUBLISH
X-WR-CALNAME:Hart Pioneer Centre
X-ORIGINAL-URL:https://hartpioneercentre.ca
X-WR-CALDESC:Events for Hart Pioneer Centre
REFRESH-INTERVAL;VALUE=DURATION:PT1H
X-Robots-Tag:noindex
X-PUBLISHED-TTL:PT1H
BEGIN:VTIMEZONE
TZID:America/Vancouver
BEGIN:DAYLIGHT
TZOFFSETFROM:-0800
TZOFFSETTO:-0700
TZNAME:PDT
DTSTART:20250309T100000
END:DAYLIGHT
BEGIN:STANDARD
TZOFFSETFROM:-0700
TZOFFSETTO:-0800
TZNAME:PST
DTSTART:20251102T090000
END:STANDARD
BEGIN:DAYLIGHT
TZOFFSETFROM:-0800
TZOFFSETTO:-0700
TZNAME:PDT
DTSTART:20260308T100000
END:DAYLIGHT
BEGIN:STANDARD
TZOFFSETFROM:-0700
TZOFFSETTO:-0800
TZNAME:PST
DTSTART:20261101T090000
END:STANDARD
BEGIN:DAYLIGHT
TZOFFSETFROM:-0800
TZOFFSETTO:-0700
TZNAME:PDT
DTSTART:20270314T100000
END:DAYLIGHT
BEGIN:STANDARD
TZOFFSETFROM:-0700
TZOFFSETTO:-0800
TZNAME:PST
DTSTART:20271107T090000
END:STANDARD
END:VTIMEZONE
BEGIN:VEVENT
DTSTART;TZID=America/Vancouver:20260420T100000
DTEND;TZID=America/Vancouver:20260420T120000
DTSTAMP:20260420T085359
CREATED:20230731T032920Z
LAST-MODIFIED:20260331T234242Z
UID:10007410-1776679200-1776686400@hartpioneercentre.ca
SUMMARY:Line Dancing - Monday
DESCRIPTION:Come and enjoy some line dancing with our energetic and fun loving seniors. You will learn some new patterns every week\, or practice the ones you already know and get some great exercise. Great fun is had by all.
URL:https://hartpioneercentre.ca/event/line-dancing-5-2/2026-04-20/
LOCATION:Hart Pioneer Centre\, 6986 Hart Highway\, Prince George\, BC\, V2k 3A8\, Canada
CATEGORIES:Line Dancing
ATTACH;FMTTYPE=image/jpeg:https://hartpioneercentre.ca/wp-content/uploads/line-dance.jpg
END:VEVENT
BEGIN:VEVENT
DTSTART;TZID=America/Vancouver:20260427T100000
DTEND;TZID=America/Vancouver:20260427T120000
DTSTAMP:20260420T085359
CREATED:20230731T032920Z
LAST-MODIFIED:20260331T234242Z
UID:10007411-1777284000-1777291200@hartpioneercentre.ca
SUMMARY:Line Dancing - Monday
DESCRIPTION:Come and enjoy some line dancing with our energetic and fun loving seniors. You will learn some new patterns every week\, or practice the ones you already know and get some great exercise. Great fun is had by all.
URL:https://hartpioneercentre.ca/event/line-dancing-5-2/2026-04-27/
LOCATION:Hart Pioneer Centre\, 6986 Hart Highway\, Prince George\, BC\, V2k 3A8\, Canada
CATEGORIES:Line Dancing
ATTACH;FMTTYPE=image/jpeg:https://hartpioneercentre.ca/wp-content/uploads/line-dance.jpg
END:VEVENT
BEGIN:VEVENT
DTSTART;TZID=America/Vancouver:20260504T100000
DTEND;TZID=America/Vancouver:20260504T120000
DTSTAMP:20260420T085359
CREATED:20230731T032920Z
LAST-MODIFIED:20260331T234242Z
UID:10007412-1777888800-1777896000@hartpioneercentre.ca
SUMMARY:Line Dancing - Monday
DESCRIPTION:Come and enjoy some line dancing with our energetic and fun loving seniors. You will learn some new patterns every week\, or practice the ones you already know and get some great exercise. Great fun is had by all.
URL:https://hartpioneercentre.ca/event/line-dancing-5-2/2026-05-04/
LOCATION:Hart Pioneer Centre\, 6986 Hart Highway\, Prince George\, BC\, V2k 3A8\, Canada
CATEGORIES:Line Dancing
ATTACH;FMTTYPE=image/jpeg:https://hartpioneercentre.ca/wp-content/uploads/line-dance.jpg
END:VEVENT
BEGIN:VEVENT
DTSTART;TZID=America/Vancouver:20260511T100000
DTEND;TZID=America/Vancouver:20260511T120000
DTSTAMP:20260420T085359
CREATED:20230731T032920Z
LAST-MODIFIED:20260331T234242Z
UID:10007413-1778493600-1778500800@hartpioneercentre.ca
SUMMARY:Line Dancing - Monday
DESCRIPTION:Come and enjoy some line dancing with our energetic and fun loving seniors. You will learn some new patterns every week\, or practice the ones you already know and get some great exercise. Great fun is had by all.
URL:https://hartpioneercentre.ca/event/line-dancing-5-2/2026-05-11/
LOCATION:Hart Pioneer Centre\, 6986 Hart Highway\, Prince George\, BC\, V2k 3A8\, Canada
CATEGORIES:Line Dancing
ATTACH;FMTTYPE=image/jpeg:https://hartpioneercentre.ca/wp-content/uploads/line-dance.jpg
END:VEVENT
BEGIN:VEVENT
DTSTART;TZID=America/Vancouver:20260518T100000
DTEND;TZID=America/Vancouver:20260518T120000
DTSTAMP:20260420T085359
CREATED:20230731T032920Z
LAST-MODIFIED:20260331T234242Z
UID:10007414-1779098400-1779105600@hartpioneercentre.ca
SUMMARY:Line Dancing - Monday
DESCRIPTION:Come and enjoy some line dancing with our energetic and fun loving seniors. You will learn some new patterns every week\, or practice the ones you already know and get some great exercise. Great fun is had by all.
URL:https://hartpioneercentre.ca/event/line-dancing-5-2/2026-05-18/
LOCATION:Hart Pioneer Centre\, 6986 Hart Highway\, Prince George\, BC\, V2k 3A8\, Canada
CATEGORIES:Line Dancing
ATTACH;FMTTYPE=image/jpeg:https://hartpioneercentre.ca/wp-content/uploads/line-dance.jpg
END:VEVENT
BEGIN:VEVENT
DTSTART;TZID=America/Vancouver:20260525T100000
DTEND;TZID=America/Vancouver:20260525T120000
DTSTAMP:20260420T085359
CREATED:20230731T032920Z
LAST-MODIFIED:20260331T234242Z
UID:10007415-1779703200-1779710400@hartpioneercentre.ca
SUMMARY:Line Dancing - Monday
DESCRIPTION:Come and enjoy some line dancing with our energetic and fun loving seniors. You will learn some new patterns every week\, or practice the ones you already know and get some great exercise. Great fun is had by all.
URL:https://hartpioneercentre.ca/event/line-dancing-5-2/2026-05-25/
LOCATION:Hart Pioneer Centre\, 6986 Hart Highway\, Prince George\, BC\, V2k 3A8\, Canada
CATEGORIES:Line Dancing
ATTACH;FMTTYPE=image/jpeg:https://hartpioneercentre.ca/wp-content/uploads/line-dance.jpg
END:VEVENT
BEGIN:VEVENT
DTSTART;TZID=America/Vancouver:20260601T100000
DTEND;TZID=America/Vancouver:20260601T120000
DTSTAMP:20260420T085359
CREATED:20230731T032920Z
LAST-MODIFIED:20260331T234242Z
UID:10007416-1780308000-1780315200@hartpioneercentre.ca
SUMMARY:Line Dancing - Monday
DESCRIPTION:Come and enjoy some line dancing with our energetic and fun loving seniors. You will learn some new patterns every week\, or practice the ones you already know and get some great exercise. Great fun is had by all.
URL:https://hartpioneercentre.ca/event/line-dancing-5-2/2026-06-01/
LOCATION:Hart Pioneer Centre\, 6986 Hart Highway\, Prince George\, BC\, V2k 3A8\, Canada
CATEGORIES:Line Dancing
ATTACH;FMTTYPE=image/jpeg:https://hartpioneercentre.ca/wp-content/uploads/line-dance.jpg
END:VEVENT
BEGIN:VEVENT
DTSTART;TZID=America/Vancouver:20260608T100000
DTEND;TZID=America/Vancouver:20260608T120000
DTSTAMP:20260420T085359
CREATED:20230731T032920Z
LAST-MODIFIED:20260331T234242Z
UID:10007417-1780912800-1780920000@hartpioneercentre.ca
SUMMARY:Line Dancing - Monday
DESCRIPTION:Come and enjoy some line dancing with our energetic and fun loving seniors. You will learn some new patterns every week\, or practice the ones you already know and get some great exercise. Great fun is had by all.
URL:https://hartpioneercentre.ca/event/line-dancing-5-2/2026-06-08/
LOCATION:Hart Pioneer Centre\, 6986 Hart Highway\, Prince George\, BC\, V2k 3A8\, Canada
CATEGORIES:Line Dancing
ATTACH;FMTTYPE=image/jpeg:https://hartpioneercentre.ca/wp-content/uploads/line-dance.jpg
END:VEVENT
BEGIN:VEVENT
DTSTART;TZID=America/Vancouver:20260615T100000
DTEND;TZID=America/Vancouver:20260615T120000
DTSTAMP:20260420T085359
CREATED:20230731T032920Z
LAST-MODIFIED:20260331T234242Z
UID:10007418-1781517600-1781524800@hartpioneercentre.ca
SUMMARY:Line Dancing - Monday
DESCRIPTION:Come and enjoy some line dancing with our energetic and fun loving seniors. You will learn some new patterns every week\, or practice the ones you already know and get some great exercise. Great fun is had by all.
URL:https://hartpioneercentre.ca/event/line-dancing-5-2/2026-06-15/
LOCATION:Hart Pioneer Centre\, 6986 Hart Highway\, Prince George\, BC\, V2k 3A8\, Canada
CATEGORIES:Line Dancing
ATTACH;FMTTYPE=image/jpeg:https://hartpioneercentre.ca/wp-content/uploads/line-dance.jpg
END:VEVENT
BEGIN:VEVENT
DTSTART;TZID=America/Vancouver:20260622T100000
DTEND;TZID=America/Vancouver:20260622T120000
DTSTAMP:20260420T085359
CREATED:20230731T032920Z
LAST-MODIFIED:20260331T234242Z
UID:10007419-1782122400-1782129600@hartpioneercentre.ca
SUMMARY:Line Dancing - Monday
DESCRIPTION:Come and enjoy some line dancing with our energetic and fun loving seniors. You will learn some new patterns every week\, or practice the ones you already know and get some great exercise. Great fun is had by all.
URL:https://hartpioneercentre.ca/event/line-dancing-5-2/2026-06-22/
LOCATION:Hart Pioneer Centre\, 6986 Hart Highway\, Prince George\, BC\, V2k 3A8\, Canada
CATEGORIES:Line Dancing
ATTACH;FMTTYPE=image/jpeg:https://hartpioneercentre.ca/wp-content/uploads/line-dance.jpg
END:VEVENT
BEGIN:VEVENT
DTSTART;TZID=America/Vancouver:20260629T100000
DTEND;TZID=America/Vancouver:20260629T120000
DTSTAMP:20260420T085359
CREATED:20230731T032920Z
LAST-MODIFIED:20260331T234242Z
UID:10007420-1782727200-1782734400@hartpioneercentre.ca
SUMMARY:Line Dancing - Monday
DESCRIPTION:Come and enjoy some line dancing with our energetic and fun loving seniors. You will learn some new patterns every week\, or practice the ones you already know and get some great exercise. Great fun is had by all.
URL:https://hartpioneercentre.ca/event/line-dancing-5-2/2026-06-29/
LOCATION:Hart Pioneer Centre\, 6986 Hart Highway\, Prince George\, BC\, V2k 3A8\, Canada
CATEGORIES:Line Dancing
ATTACH;FMTTYPE=image/jpeg:https://hartpioneercentre.ca/wp-content/uploads/line-dance.jpg
END:VEVENT
BEGIN:VEVENT
DTSTART;TZID=America/Vancouver:20260706T100000
DTEND;TZID=America/Vancouver:20260706T120000
DTSTAMP:20260420T085359
CREATED:20230731T032920Z
LAST-MODIFIED:20260331T234242Z
UID:10007421-1783332000-1783339200@hartpioneercentre.ca
SUMMARY:Line Dancing - Monday
DESCRIPTION:Come and enjoy some line dancing with our energetic and fun loving seniors. You will learn some new patterns every week\, or practice the ones you already know and get some great exercise. Great fun is had by all.
URL:https://hartpioneercentre.ca/event/line-dancing-5-2/2026-07-06/
LOCATION:Hart Pioneer Centre\, 6986 Hart Highway\, Prince George\, BC\, V2k 3A8\, Canada
CATEGORIES:Line Dancing
ATTACH;FMTTYPE=image/jpeg:https://hartpioneercentre.ca/wp-content/uploads/line-dance.jpg
END:VEVENT
BEGIN:VEVENT
DTSTART;TZID=America/Vancouver:20260713T100000
DTEND;TZID=America/Vancouver:20260713T120000
DTSTAMP:20260420T085359
CREATED:20230731T032920Z
LAST-MODIFIED:20260331T234242Z
UID:10007422-1783936800-1783944000@hartpioneercentre.ca
SUMMARY:Line Dancing - Monday
DESCRIPTION:Come and enjoy some line dancing with our energetic and fun loving seniors. You will learn some new patterns every week\, or practice the ones you already know and get some great exercise. Great fun is had by all.
URL:https://hartpioneercentre.ca/event/line-dancing-5-2/2026-07-13/
LOCATION:Hart Pioneer Centre\, 6986 Hart Highway\, Prince George\, BC\, V2k 3A8\, Canada
CATEGORIES:Line Dancing
ATTACH;FMTTYPE=image/jpeg:https://hartpioneercentre.ca/wp-content/uploads/line-dance.jpg
END:VEVENT
BEGIN:VEVENT
DTSTART;TZID=America/Vancouver:20260720T100000
DTEND;TZID=America/Vancouver:20260720T120000
DTSTAMP:20260420T085359
CREATED:20230731T032920Z
LAST-MODIFIED:20260331T234242Z
UID:10007423-1784541600-1784548800@hartpioneercentre.ca
SUMMARY:Line Dancing - Monday
DESCRIPTION:Come and enjoy some line dancing with our energetic and fun loving seniors. You will learn some new patterns every week\, or practice the ones you already know and get some great exercise. Great fun is had by all.
URL:https://hartpioneercentre.ca/event/line-dancing-5-2/2026-07-20/
LOCATION:Hart Pioneer Centre\, 6986 Hart Highway\, Prince George\, BC\, V2k 3A8\, Canada
CATEGORIES:Line Dancing
ATTACH;FMTTYPE=image/jpeg:https://hartpioneercentre.ca/wp-content/uploads/line-dance.jpg
END:VEVENT
BEGIN:VEVENT
DTSTART;TZID=America/Vancouver:20260727T100000
DTEND;TZID=America/Vancouver:20260727T120000
DTSTAMP:20260420T085359
CREATED:20230731T032920Z
LAST-MODIFIED:20260331T234242Z
UID:10007424-1785146400-1785153600@hartpioneercentre.ca
SUMMARY:Line Dancing - Monday
DESCRIPTION:Come and enjoy some line dancing with our energetic and fun loving seniors. You will learn some new patterns every week\, or practice the ones you already know and get some great exercise. Great fun is had by all.
URL:https://hartpioneercentre.ca/event/line-dancing-5-2/2026-07-27/
LOCATION:Hart Pioneer Centre\, 6986 Hart Highway\, Prince George\, BC\, V2k 3A8\, Canada
CATEGORIES:Line Dancing
ATTACH;FMTTYPE=image/jpeg:https://hartpioneercentre.ca/wp-content/uploads/line-dance.jpg
END:VEVENT
BEGIN:VEVENT
DTSTART;TZID=America/Vancouver:20260803T100000
DTEND;TZID=America/Vancouver:20260803T120000
DTSTAMP:20260420T085359
CREATED:20230731T032920Z
LAST-MODIFIED:20260331T234242Z
UID:10007425-1785751200-1785758400@hartpioneercentre.ca
SUMMARY:Line Dancing - Monday
DESCRIPTION:Come and enjoy some line dancing with our energetic and fun loving seniors. You will learn some new patterns every week\, or practice the ones you already know and get some great exercise. Great fun is had by all.
URL:https://hartpioneercentre.ca/event/line-dancing-5-2/2026-08-03/
LOCATION:Hart Pioneer Centre\, 6986 Hart Highway\, Prince George\, BC\, V2k 3A8\, Canada
CATEGORIES:Line Dancing
ATTACH;FMTTYPE=image/jpeg:https://hartpioneercentre.ca/wp-content/uploads/line-dance.jpg
END:VEVENT
BEGIN:VEVENT
DTSTART;TZID=America/Vancouver:20260810T100000
DTEND;TZID=America/Vancouver:20260810T120000
DTSTAMP:20260420T085359
CREATED:20230731T032920Z
LAST-MODIFIED:20260331T234242Z
UID:10007426-1786356000-1786363200@hartpioneercentre.ca
SUMMARY:Line Dancing - Monday
DESCRIPTION:Come and enjoy some line dancing with our energetic and fun loving seniors. You will learn some new patterns every week\, or practice the ones you already know and get some great exercise. Great fun is had by all.
URL:https://hartpioneercentre.ca/event/line-dancing-5-2/2026-08-10/
LOCATION:Hart Pioneer Centre\, 6986 Hart Highway\, Prince George\, BC\, V2k 3A8\, Canada
CATEGORIES:Line Dancing
ATTACH;FMTTYPE=image/jpeg:https://hartpioneercentre.ca/wp-content/uploads/line-dance.jpg
END:VEVENT
BEGIN:VEVENT
DTSTART;TZID=America/Vancouver:20260817T100000
DTEND;TZID=America/Vancouver:20260817T120000
DTSTAMP:20260420T085359
CREATED:20230731T032920Z
LAST-MODIFIED:20260331T234242Z
UID:10007427-1786960800-1786968000@hartpioneercentre.ca
SUMMARY:Line Dancing - Monday
DESCRIPTION:Come and enjoy some line dancing with our energetic and fun loving seniors. You will learn some new patterns every week\, or practice the ones you already know and get some great exercise. Great fun is had by all.
URL:https://hartpioneercentre.ca/event/line-dancing-5-2/2026-08-17/
LOCATION:Hart Pioneer Centre\, 6986 Hart Highway\, Prince George\, BC\, V2k 3A8\, Canada
CATEGORIES:Line Dancing
ATTACH;FMTTYPE=image/jpeg:https://hartpioneercentre.ca/wp-content/uploads/line-dance.jpg
END:VEVENT
BEGIN:VEVENT
DTSTART;TZID=America/Vancouver:20260824T100000
DTEND;TZID=America/Vancouver:20260824T120000
DTSTAMP:20260420T085359
CREATED:20230731T032920Z
LAST-MODIFIED:20260331T234242Z
UID:10007428-1787565600-1787572800@hartpioneercentre.ca
SUMMARY:Line Dancing - Monday
DESCRIPTION:Come and enjoy some line dancing with our energetic and fun loving seniors. You will learn some new patterns every week\, or practice the ones you already know and get some great exercise. Great fun is had by all.
URL:https://hartpioneercentre.ca/event/line-dancing-5-2/2026-08-24/
LOCATION:Hart Pioneer Centre\, 6986 Hart Highway\, Prince George\, BC\, V2k 3A8\, Canada
CATEGORIES:Line Dancing
ATTACH;FMTTYPE=image/jpeg:https://hartpioneercentre.ca/wp-content/uploads/line-dance.jpg
END:VEVENT
BEGIN:VEVENT
DTSTART;TZID=America/Vancouver:20260831T100000
DTEND;TZID=America/Vancouver:20260831T120000
DTSTAMP:20260420T085359
CREATED:20230731T032920Z
LAST-MODIFIED:20260331T234242Z
UID:10007429-1788170400-1788177600@hartpioneercentre.ca
SUMMARY:Line Dancing - Monday
DESCRIPTION:Come and enjoy some line dancing with our energetic and fun loving seniors. You will learn some new patterns every week\, or practice the ones you already know and get some great exercise. Great fun is had by all.
URL:https://hartpioneercentre.ca/event/line-dancing-5-2/2026-08-31/
LOCATION:Hart Pioneer Centre\, 6986 Hart Highway\, Prince George\, BC\, V2k 3A8\, Canada
CATEGORIES:Line Dancing
ATTACH;FMTTYPE=image/jpeg:https://hartpioneercentre.ca/wp-content/uploads/line-dance.jpg
END:VEVENT
BEGIN:VEVENT
DTSTART;TZID=America/Vancouver:20260907T100000
DTEND;TZID=America/Vancouver:20260907T120000
DTSTAMP:20260420T085359
CREATED:20230731T032920Z
LAST-MODIFIED:20260331T234242Z
UID:10007430-1788775200-1788782400@hartpioneercentre.ca
SUMMARY:Line Dancing - Monday
DESCRIPTION:Come and enjoy some line dancing with our energetic and fun loving seniors. You will learn some new patterns every week\, or practice the ones you already know and get some great exercise. Great fun is had by all.
URL:https://hartpioneercentre.ca/event/line-dancing-5-2/2026-09-07/
LOCATION:Hart Pioneer Centre\, 6986 Hart Highway\, Prince George\, BC\, V2k 3A8\, Canada
CATEGORIES:Line Dancing
ATTACH;FMTTYPE=image/jpeg:https://hartpioneercentre.ca/wp-content/uploads/line-dance.jpg
END:VEVENT
BEGIN:VEVENT
DTSTART;TZID=America/Vancouver:20260914T100000
DTEND;TZID=America/Vancouver:20260914T120000
DTSTAMP:20260420T085359
CREATED:20230731T032920Z
LAST-MODIFIED:20260331T234242Z
UID:10007431-1789380000-1789387200@hartpioneercentre.ca
SUMMARY:Line Dancing - Monday
DESCRIPTION:Come and enjoy some line dancing with our energetic and fun loving seniors. You will learn some new patterns every week\, or practice the ones you already know and get some great exercise. Great fun is had by all.
URL:https://hartpioneercentre.ca/event/line-dancing-5-2/2026-09-14/
LOCATION:Hart Pioneer Centre\, 6986 Hart Highway\, Prince George\, BC\, V2k 3A8\, Canada
CATEGORIES:Line Dancing
ATTACH;FMTTYPE=image/jpeg:https://hartpioneercentre.ca/wp-content/uploads/line-dance.jpg
END:VEVENT
BEGIN:VEVENT
DTSTART;TZID=America/Vancouver:20260921T100000
DTEND;TZID=America/Vancouver:20260921T120000
DTSTAMP:20260420T085359
CREATED:20230731T032920Z
LAST-MODIFIED:20260331T234242Z
UID:10007432-1789984800-1789992000@hartpioneercentre.ca
SUMMARY:Line Dancing - Monday
DESCRIPTION:Come and enjoy some line dancing with our energetic and fun loving seniors. You will learn some new patterns every week\, or practice the ones you already know and get some great exercise. Great fun is had by all.
URL:https://hartpioneercentre.ca/event/line-dancing-5-2/2026-09-21/
LOCATION:Hart Pioneer Centre\, 6986 Hart Highway\, Prince George\, BC\, V2k 3A8\, Canada
CATEGORIES:Line Dancing
ATTACH;FMTTYPE=image/jpeg:https://hartpioneercentre.ca/wp-content/uploads/line-dance.jpg
END:VEVENT
BEGIN:VEVENT
DTSTART;TZID=America/Vancouver:20260928T100000
DTEND;TZID=America/Vancouver:20260928T120000
DTSTAMP:20260420T085359
CREATED:20230731T032920Z
LAST-MODIFIED:20260331T234242Z
UID:10007433-1790589600-1790596800@hartpioneercentre.ca
SUMMARY:Line Dancing - Monday
DESCRIPTION:Come and enjoy some line dancing with our energetic and fun loving seniors. You will learn some new patterns every week\, or practice the ones you already know and get some great exercise. Great fun is had by all.
URL:https://hartpioneercentre.ca/event/line-dancing-5-2/2026-09-28/
LOCATION:Hart Pioneer Centre\, 6986 Hart Highway\, Prince George\, BC\, V2k 3A8\, Canada
CATEGORIES:Line Dancing
ATTACH;FMTTYPE=image/jpeg:https://hartpioneercentre.ca/wp-content/uploads/line-dance.jpg
END:VEVENT
BEGIN:VEVENT
DTSTART;TZID=America/Vancouver:20261005T100000
DTEND;TZID=America/Vancouver:20261005T120000
DTSTAMP:20260420T085359
CREATED:20230731T032920Z
LAST-MODIFIED:20260331T234242Z
UID:10007434-1791194400-1791201600@hartpioneercentre.ca
SUMMARY:Line Dancing - Monday
DESCRIPTION:Come and enjoy some line dancing with our energetic and fun loving seniors. You will learn some new patterns every week\, or practice the ones you already know and get some great exercise. Great fun is had by all.
URL:https://hartpioneercentre.ca/event/line-dancing-5-2/2026-10-05/
LOCATION:Hart Pioneer Centre\, 6986 Hart Highway\, Prince George\, BC\, V2k 3A8\, Canada
CATEGORIES:Line Dancing
ATTACH;FMTTYPE=image/jpeg:https://hartpioneercentre.ca/wp-content/uploads/line-dance.jpg
END:VEVENT
BEGIN:VEVENT
DTSTART;TZID=America/Vancouver:20261012T100000
DTEND;TZID=America/Vancouver:20261012T120000
DTSTAMP:20260420T085359
CREATED:20230731T032920Z
LAST-MODIFIED:20260331T234242Z
UID:10007435-1791799200-1791806400@hartpioneercentre.ca
SUMMARY:Line Dancing - Monday
DESCRIPTION:Come and enjoy some line dancing with our energetic and fun loving seniors. You will learn some new patterns every week\, or practice the ones you already know and get some great exercise. Great fun is had by all.
URL:https://hartpioneercentre.ca/event/line-dancing-5-2/2026-10-12/
LOCATION:Hart Pioneer Centre\, 6986 Hart Highway\, Prince George\, BC\, V2k 3A8\, Canada
CATEGORIES:Line Dancing
ATTACH;FMTTYPE=image/jpeg:https://hartpioneercentre.ca/wp-content/uploads/line-dance.jpg
END:VEVENT
BEGIN:VEVENT
DTSTART;TZID=America/Vancouver:20261019T100000
DTEND;TZID=America/Vancouver:20261019T120000
DTSTAMP:20260420T085359
CREATED:20230731T032920Z
LAST-MODIFIED:20260331T234242Z
UID:10007436-1792404000-1792411200@hartpioneercentre.ca
SUMMARY:Line Dancing - Monday
DESCRIPTION:Come and enjoy some line dancing with our energetic and fun loving seniors. You will learn some new patterns every week\, or practice the ones you already know and get some great exercise. Great fun is had by all.
URL:https://hartpioneercentre.ca/event/line-dancing-5-2/2026-10-19/
LOCATION:Hart Pioneer Centre\, 6986 Hart Highway\, Prince George\, BC\, V2k 3A8\, Canada
CATEGORIES:Line Dancing
ATTACH;FMTTYPE=image/jpeg:https://hartpioneercentre.ca/wp-content/uploads/line-dance.jpg
END:VEVENT
BEGIN:VEVENT
DTSTART;TZID=America/Vancouver:20261026T100000
DTEND;TZID=America/Vancouver:20261026T120000
DTSTAMP:20260420T085359
CREATED:20230731T032920Z
LAST-MODIFIED:20260331T234242Z
UID:10007437-1793008800-1793016000@hartpioneercentre.ca
SUMMARY:Line Dancing - Monday
DESCRIPTION:Come and enjoy some line dancing with our energetic and fun loving seniors. You will learn some new patterns every week\, or practice the ones you already know and get some great exercise. Great fun is had by all.
URL:https://hartpioneercentre.ca/event/line-dancing-5-2/2026-10-26/
LOCATION:Hart Pioneer Centre\, 6986 Hart Highway\, Prince George\, BC\, V2k 3A8\, Canada
CATEGORIES:Line Dancing
ATTACH;FMTTYPE=image/jpeg:https://hartpioneercentre.ca/wp-content/uploads/line-dance.jpg
END:VEVENT
BEGIN:VEVENT
DTSTART;TZID=America/Vancouver:20261102T100000
DTEND;TZID=America/Vancouver:20261102T120000
DTSTAMP:20260420T085359
CREATED:20230731T032920Z
LAST-MODIFIED:20260331T234242Z
UID:10007438-1793613600-1793620800@hartpioneercentre.ca
SUMMARY:Line Dancing - Monday
DESCRIPTION:Come and enjoy some line dancing with our energetic and fun loving seniors. You will learn some new patterns every week\, or practice the ones you already know and get some great exercise. Great fun is had by all.
URL:https://hartpioneercentre.ca/event/line-dancing-5-2/2026-11-02/
LOCATION:Hart Pioneer Centre\, 6986 Hart Highway\, Prince George\, BC\, V2k 3A8\, Canada
CATEGORIES:Line Dancing
ATTACH;FMTTYPE=image/jpeg:https://hartpioneercentre.ca/wp-content/uploads/line-dance.jpg
END:VEVENT
BEGIN:VEVENT
DTSTART;TZID=America/Vancouver:20261109T100000
DTEND;TZID=America/Vancouver:20261109T120000
DTSTAMP:20260420T085359
CREATED:20230731T032920Z
LAST-MODIFIED:20260331T234242Z
UID:10007439-1794218400-1794225600@hartpioneercentre.ca
SUMMARY:Line Dancing - Monday
DESCRIPTION:Come and enjoy some line dancing with our energetic and fun loving seniors. You will learn some new patterns every week\, or practice the ones you already know and get some great exercise. Great fun is had by all.
URL:https://hartpioneercentre.ca/event/line-dancing-5-2/2026-11-09/
LOCATION:Hart Pioneer Centre\, 6986 Hart Highway\, Prince George\, BC\, V2k 3A8\, Canada
CATEGORIES:Line Dancing
ATTACH;FMTTYPE=image/jpeg:https://hartpioneercentre.ca/wp-content/uploads/line-dance.jpg
END:VEVENT
END:VCALENDAR